BEGIN:VCALENDAR
VERSION:2.0
PRODID:-//Texoma Council of Governments - ECPv6.15.20//NONSGML v1.0//EN
CALSCALE:GREGORIAN
METHOD:PUBLISH
X-WR-CALNAME:Texoma Council of Governments
X-ORIGINAL-URL:https://tcog.com
X-WR-CALDESC:Events for Texoma Council of Governments
REFRESH-INTERVAL;VALUE=DURATION:PT1H
X-Robots-Tag:noindex
X-PUBLISHED-TTL:PT1H
BEGIN:VTIMEZONE
TZID:America/Chicago
BEGIN:DAYLIGHT
TZOFFSETFROM:-0600
TZOFFSETTO:-0500
TZNAME:CDT
DTSTART:20240310T080000
END:DAYLIGHT
BEGIN:STANDARD
TZOFFSETFROM:-0500
TZOFFSETTO:-0600
TZNAME:CST
DTSTART:20241103T070000
END:STANDARD
BEGIN:DAYLIGHT
TZOFFSETFROM:-0600
TZOFFSETTO:-0500
TZNAME:CDT
DTSTART:20250309T080000
END:DAYLIGHT
BEGIN:STANDARD
TZOFFSETFROM:-0500
TZOFFSETTO:-0600
TZNAME:CST
DTSTART:20251102T070000
END:STANDARD
BEGIN:DAYLIGHT
TZOFFSETFROM:-0600
TZOFFSETTO:-0500
TZNAME:CDT
DTSTART:20260308T080000
END:DAYLIGHT
BEGIN:STANDARD
TZOFFSETFROM:-0500
TZOFFSETTO:-0600
TZNAME:CST
DTSTART:20261101T070000
END:STANDARD
END:VTIMEZONE
BEGIN:VTIMEZONE
TZID:America/New_York
BEGIN:DAYLIGHT
TZOFFSETFROM:-0500
TZOFFSETTO:-0400
TZNAME:EDT
DTSTART:20240310T070000
END:DAYLIGHT
BEGIN:STANDARD
TZOFFSETFROM:-0400
TZOFFSETTO:-0500
TZNAME:EST
DTSTART:20241103T060000
END:STANDARD
BEGIN:DAYLIGHT
TZOFFSETFROM:-0500
TZOFFSETTO:-0400
TZNAME:EDT
DTSTART:20250309T070000
END:DAYLIGHT
BEGIN:STANDARD
TZOFFSETFROM:-0400
TZOFFSETTO:-0500
TZNAME:EST
DTSTART:20251102T060000
END:STANDARD
BEGIN:DAYLIGHT
TZOFFSETFROM:-0500
TZOFFSETTO:-0400
TZNAME:EDT
DTSTART:20260308T070000
END:DAYLIGHT
BEGIN:STANDARD
TZOFFSETFROM:-0400
TZOFFSETTO:-0500
TZNAME:EST
DTSTART:20261101T060000
END:STANDARD
END:VTIMEZONE
BEGIN:VEVENT
DTSTART;TZID=America/Chicago:20251208T180000
DTEND;TZID=America/Chicago:20251208T190000
DTSTAMP:20260421T205119
CREATED:20251114T201723Z
LAST-MODIFIED:20251114T201723Z
UID:11002336-1765216800-1765220400@tcog.com
SUMMARY:IDD and Neurodivergent Children and Young Adults Support Group
DESCRIPTION:We invite any parents of children and young adults with intellectual or developmental disabilities (IDD) and neurodivergent diagnoses to join a monthly support group designed to foster connection\, share resources\, and build community.
URL:https://tcog.com/event/idd-and-neurodivergent-children-and-young-adults-support-group/2025-12-08/
LOCATION:Eisenhower Room\, 1117 Gallagher Drive\, Suite 100\, Sherman\, TX\, 75090\, United States
CATEGORIES:Aging & Disability Resource Center,Aging Services
ORGANIZER;CN="Texoma Council of Governments":MAILTO:info@texoma.cog.tx.us
GEO:33.673164;-96.6024917
X-APPLE-STRUCTURED-LOCATION;VALUE=URI;X-ADDRESS=Eisenhower Room 1117 Gallagher Drive Suite 100 Sherman TX 75090 United States;X-APPLE-RADIUS=500;X-TITLE=1117 Gallagher Drive\, Suite 100:geo:-96.6024917,33.673164
END:VEVENT
BEGIN:VEVENT
DTSTART;VALUE=DATE:20251210
DTEND;VALUE=DATE:20251211
DTSTAMP:20260421T205119
CREATED:20251203T141002Z
LAST-MODIFIED:20251203T141207Z
UID:11002411-1765324800-1765411199@tcog.com
SUMMARY:Veterans Administration Supportive Housing (VASH) Intake
DESCRIPTION:
URL:https://tcog.com/event/veterans-administration-supportive-housing-vash-intake/
LOCATION:Walker House\, Denison TX\, 100 W. Walker Street\, Denison\, 75020\, United States
CATEGORIES:Client Services,Section 8 Housing
ORGANIZER;CN="Texoma Council of Governments":MAILTO:info@texoma.cog.tx.us
END:VEVENT
BEGIN:VEVENT
DTSTART;TZID=America/Chicago:20251210T140000
DTEND;TZID=America/Chicago:20251210T150000
DTSTAMP:20260421T205119
CREATED:20251007T105057Z
LAST-MODIFIED:20251007T105618Z
UID:10002000-1765375200-1765378800@tcog.com
SUMMARY:Alzheimer's and Dementia Caregiver Support Group
DESCRIPTION:Caregivers need care too! Join our Alzheimer’s and Dementia Caregiver Support Group and connect with others who understand the journey. Share experiences\, find encouragement\, and build a community of support — because together\, we’re stronger.
URL:https://tcog.com/event/alzheimers-and-dementia-caregiver-support-group/2025-12-10/
LOCATION:Texoma Room\, 1117 Gallagher Drive\, Suite 270\, Sherman\, TX\, 75090\, United States
CATEGORIES:Aging Services
ORGANIZER;CN="Texoma Council of Governments":MAILTO:info@texoma.cog.tx.us
GEO:33.673164;-96.6024917
X-APPLE-STRUCTURED-LOCATION;VALUE=URI;X-ADDRESS=Texoma Room 1117 Gallagher Drive Suite 270 Sherman TX 75090 United States;X-APPLE-RADIUS=500;X-TITLE=1117 Gallagher Drive\, Suite 270:geo:-96.6024917,33.673164
END:VEVENT
BEGIN:VEVENT
DTSTART;TZID=America/New_York:20251211T090000
DTEND;TZID=America/New_York:20251211T130000
DTSTAMP:20260421T205119
CREATED:20171115T192058Z
LAST-MODIFIED:20230413T143035Z
UID:10000397-1765443600-1765458000@tcog.com
SUMMARY:FGP Monthly Inservice
DESCRIPTION:Monthly Foster Grandparents Program Volunteer training seminar.
URL:https://tcog.com/event/fgp-monthly-inservice/2025-12-11/
LOCATION:Eisenhower Room\, 1117 Gallagher Drive\, Suite 100\, Sherman\, TX\, 75090\, United States
CATEGORIES:Foster Grandparents
ATTACH;FMTTYPE=image/jpeg:https://tcog.com/wp-content/uploads/2017/11/Frances-W-FGP-Volunteer.jpg
GEO:33.673164;-96.6024917
X-APPLE-STRUCTURED-LOCATION;VALUE=URI;X-ADDRESS=Eisenhower Room 1117 Gallagher Drive Suite 100 Sherman TX 75090 United States;X-APPLE-RADIUS=500;X-TITLE=1117 Gallagher Drive\, Suite 100:geo:-96.6024917,33.673164
END:VEVENT
BEGIN:VEVENT
DTSTART;TZID=America/Chicago:20251211T160000
DTEND;TZID=America/Chicago:20251211T170000
DTSTAMP:20260421T205119
CREATED:20240903T211835Z
LAST-MODIFIED:20250701T210004Z
UID:10000736-1765468800-1765472400@tcog.com
SUMMARY:Audit and Finance Committee
DESCRIPTION:
URL:https://tcog.com/event/audit-and-finance-committee-2/2025-12-11/
LOCATION:Texoma Council of Governments\, 1117 Gallagher Dr\, Sherman\, 75090
CATEGORIES:Audit & Finance Subcommittee Meeting
ORGANIZER;CN="Texoma Council of Governments":MAILTO:info@texoma.cog.tx.us
GEO:33.6731385;-96.6024082
X-APPLE-STRUCTURED-LOCATION;VALUE=URI;X-ADDRESS=Texoma Council of Governments 1117 Gallagher Dr Sherman 75090;X-APPLE-RADIUS=500;X-TITLE=1117 Gallagher Dr:geo:-96.6024082,33.6731385
END:VEVENT
BEGIN:VEVENT
DTSTART;TZID=America/Chicago:20251211T163000
DTEND;TZID=America/Chicago:20251211T170000
DTSTAMP:20260421T205119
CREATED:20230403T163205Z
LAST-MODIFIED:20230403T163205Z
UID:10001649-1765470600-1765472400@tcog.com
SUMMARY:Executive Officers Meeting
DESCRIPTION:
URL:https://tcog.com/event/executive-officers-meeting/2025-12-11/
LOCATION:Texoma Council of Governments\, 1117 Gallagher Dr\, Sherman\, 75090
CATEGORIES:Executive Officers Committee Meeting
ORGANIZER;CN="Texoma Council of Governments":MAILTO:info@texoma.cog.tx.us
GEO:33.6731385;-96.6024082
X-APPLE-STRUCTURED-LOCATION;VALUE=URI;X-ADDRESS=Texoma Council of Governments 1117 Gallagher Dr Sherman 75090;X-APPLE-RADIUS=500;X-TITLE=1117 Gallagher Dr:geo:-96.6024082,33.6731385
END:VEVENT
BEGIN:VEVENT
DTSTART;TZID=America/Chicago:20251211T170000
DTEND;TZID=America/Chicago:20251211T171500
DTSTAMP:20260421T205119
CREATED:20241002T224438Z
LAST-MODIFIED:20250701T210109Z
UID:10001818-1765472400-1765473300@tcog.com
SUMMARY:Executive Officers Committee
DESCRIPTION:
URL:https://tcog.com/event/executive-officers-committee-2-2/2025-12-11/
LOCATION:Texoma Council of Governments\, 1117 Gallagher Dr\, Sherman\, 75090
CATEGORIES:Executive Officers Committee Meeting
ORGANIZER;CN="Texoma Council of Governments":MAILTO:info@texoma.cog.tx.us
GEO:33.6731385;-96.6024082
X-APPLE-STRUCTURED-LOCATION;VALUE=URI;X-ADDRESS=Texoma Council of Governments 1117 Gallagher Dr Sherman 75090;X-APPLE-RADIUS=500;X-TITLE=1117 Gallagher Dr:geo:-96.6024082,33.6731385
END:VEVENT
BEGIN:VEVENT
DTSTART;TZID=America/Chicago:20251216T173000
DTEND;TZID=America/Chicago:20251216T210000
DTSTAMP:20260421T205119
CREATED:20240624T211453Z
LAST-MODIFIED:20240624T212124Z
UID:10000665-1765906200-1765918800@tcog.com
SUMMARY:Grayson County Amateur Radio Club
DESCRIPTION:
URL:https://tcog.com/event/grayson-county-amateur-radio-club/2025-12-16/
LOCATION:Texoma Council of Governments\, 1117 Gallagher Dr\, Sherman\, 75090
ATTACH;FMTTYPE=image/jpeg:https://tcog.com/wp-content/uploads/2024/06/GCARC.jpeg
ORGANIZER;CN="Texoma Council of Governments":MAILTO:info@texoma.cog.tx.us
GEO:33.6731385;-96.6024082
X-APPLE-STRUCTURED-LOCATION;VALUE=URI;X-ADDRESS=Texoma Council of Governments 1117 Gallagher Dr Sherman 75090;X-APPLE-RADIUS=500;X-TITLE=1117 Gallagher Dr:geo:-96.6024082,33.6731385
END:VEVENT
BEGIN:VEVENT
DTSTART;TZID=America/Chicago:20251218T173000
DTEND;TZID=America/Chicago:20251218T190000
DTSTAMP:20260421T205119
CREATED:20251203T150941Z
LAST-MODIFIED:20260106T165055Z
UID:11002424-1766079000-1766084400@tcog.com
SUMMARY:Governing Board Meeting
DESCRIPTION:
URL:https://tcog.com/event/governing-board-meeting-15/
LOCATION:Eisenhower Room\, 1117 Gallagher Drive\, Suite 100\, Sherman\, TX\, 75090\, United States
CATEGORIES:Board & Committee Meetings,Governing Board Meeting
ATTACH;FMTTYPE=image/png:https://tcog.com/wp-content/uploads/2017/10/TCOG-Governing-Board-Meeting-Featured-Photo-Placeholder.png
ORGANIZER;CN="Texoma Council of Governments":MAILTO:info@texoma.cog.tx.us
GEO:33.673164;-96.6024917
X-APPLE-STRUCTURED-LOCATION;VALUE=URI;X-ADDRESS=Eisenhower Room 1117 Gallagher Drive Suite 100 Sherman TX 75090 United States;X-APPLE-RADIUS=500;X-TITLE=1117 Gallagher Drive\, Suite 100:geo:-96.6024917,33.673164
END:VEVENT
BEGIN:VEVENT
DTSTART;TZID=America/Chicago:20251225T140000
DTEND;TZID=America/Chicago:20251225T150000
DTSTAMP:20260421T205119
CREATED:20251203T141805Z
LAST-MODIFIED:20251203T141805Z
UID:11002412-1766671200-1766674800@tcog.com
SUMMARY:ArtsWorks for Seniors
DESCRIPTION:
URL:https://tcog.com/event/artsworks-for-seniors/2025-12-25/
LOCATION:ArtWorks\, 510 W. Main Street\, Denison\, 75020\, United States
ATTACH;FMTTYPE=image/jpeg:https://tcog.com/wp-content/uploads/2025/12/ArtWorks_edited.jpg
ORGANIZER;CN="Texoma Council of Governments":MAILTO:info@texoma.cog.tx.us
END:VEVENT
END:VCALENDAR