BEGIN:VCALENDAR
VERSION:2.0
PRODID:-//Texoma Council of Governments - ECPv6.15.20//NONSGML v1.0//EN
CALSCALE:GREGORIAN
METHOD:PUBLISH
X-WR-CALNAME:Texoma Council of Governments
X-ORIGINAL-URL:https://tcog.com
X-WR-CALDESC:Events for Texoma Council of Governments
REFRESH-INTERVAL;VALUE=DURATION:PT1H
X-Robots-Tag:noindex
X-PUBLISHED-TTL:PT1H
BEGIN:VTIMEZONE
TZID:America/Chicago
BEGIN:DAYLIGHT
TZOFFSETFROM:-0600
TZOFFSETTO:-0500
TZNAME:CDT
DTSTART:20240310T080000
END:DAYLIGHT
BEGIN:STANDARD
TZOFFSETFROM:-0500
TZOFFSETTO:-0600
TZNAME:CST
DTSTART:20241103T070000
END:STANDARD
BEGIN:DAYLIGHT
TZOFFSETFROM:-0600
TZOFFSETTO:-0500
TZNAME:CDT
DTSTART:20250309T080000
END:DAYLIGHT
BEGIN:STANDARD
TZOFFSETFROM:-0500
TZOFFSETTO:-0600
TZNAME:CST
DTSTART:20251102T070000
END:STANDARD
BEGIN:DAYLIGHT
TZOFFSETFROM:-0600
TZOFFSETTO:-0500
TZNAME:CDT
DTSTART:20260308T080000
END:DAYLIGHT
BEGIN:STANDARD
TZOFFSETFROM:-0500
TZOFFSETTO:-0600
TZNAME:CST
DTSTART:20261101T070000
END:STANDARD
END:VTIMEZONE
BEGIN:VTIMEZONE
TZID:America/New_York
BEGIN:DAYLIGHT
TZOFFSETFROM:-0500
TZOFFSETTO:-0400
TZNAME:EDT
DTSTART:20240310T070000
END:DAYLIGHT
BEGIN:STANDARD
TZOFFSETFROM:-0400
TZOFFSETTO:-0500
TZNAME:EST
DTSTART:20241103T060000
END:STANDARD
BEGIN:DAYLIGHT
TZOFFSETFROM:-0500
TZOFFSETTO:-0400
TZNAME:EDT
DTSTART:20250309T070000
END:DAYLIGHT
BEGIN:STANDARD
TZOFFSETFROM:-0400
TZOFFSETTO:-0500
TZNAME:EST
DTSTART:20251102T060000
END:STANDARD
BEGIN:DAYLIGHT
TZOFFSETFROM:-0500
TZOFFSETTO:-0400
TZNAME:EDT
DTSTART:20260308T070000
END:DAYLIGHT
BEGIN:STANDARD
TZOFFSETFROM:-0400
TZOFFSETTO:-0500
TZNAME:EST
DTSTART:20261101T060000
END:STANDARD
END:VTIMEZONE
BEGIN:VEVENT
DTSTART;TZID=America/Chicago:20251105T083000
DTEND;TZID=America/Chicago:20251105T153000
DTSTAMP:20260422T031232
CREATED:20250515T214600Z
LAST-MODIFIED:20250529T115206Z
UID:10001783-1762331400-1762356600@tcog.com
SUMMARY:Texoma Made Conference 2025
DESCRIPTION:Join us on Wed Nov 05 2025 at 08:30 AM in Mabee Hall\, Austin College for a day filled with inspiration\, networking\, and learning. Texoma Made 2025 is the premier conference for anyone helping shape the future of North Texas and Southern Oklahoma—and it’s happening November 5th at Austin College in Sherman\, TX.\nAt Texoma Made 2025\, you’ll have the opportunity to connect with local entrepreneurs\, artisans\, and creators from the Texoma region. Learn from industry experts\, discover new trends\, and gain valuable insights to help grow your business. We’re bringing together leaders\, entrepreneurs\, chamber executives\, city officials\, educators\, economic developers\, and creatives to share ideas\, make connections\, and move the region forward.\nDon’t miss out on this exciting event that celebrates the spirit of creativity and innovation in our community. Reserve your spot today!\nWho Should Attend?\nThis event is for anyone invested in our region’s future:\n\n\nEntrepreneurs & small business owners\n\n\nChamber of Commerce leaders\n\n\nEconomic developers & city planners\n\n\nCity staff\, mayors & council members\n\n\nReal estate professionals & investors\n\n\nBankers & workforce leaders\n\n\nTourism advocates & nonprofits\n\n\nEducators\, students\, job seekers\n\n\nAnd especially:\n\n\nPeople who live here\n\n\nPeople who came back to give back\n\n\nPeople who care deeply about Texoma’s future\n\n\nLet’s Build the Future—Together\nTexoma Made is the launchpad for a more resilient\, connected\, and prosperous Texoma. Whether you’re a policymaker\, a student\, a business owner\, or a lifelong local—you belong in this conversation.\nReserve your spot today—and be part of the movement.
URL:https://tcog.com/event/texoma-made-conference-2025/
LOCATION:Mabee Banquet Hall\, 900 N. Grand Ave.\, Sherman\, TX\, 75090-4400\, United States
CATEGORIES:Community & Economic Development,Texoma Economic Development District
ATTACH;FMTTYPE=image/jpeg:https://tcog.com/wp-content/uploads/2025/05/SavetheDate_EDC-Cities_edited_edited.jpg
ORGANIZER;CN="Texoma Council of Governments":MAILTO:info@texoma.cog.tx.us
GEO:33.6469287;-96.5980823
X-APPLE-STRUCTURED-LOCATION;VALUE=URI;X-ADDRESS=Mabee Banquet Hall 900 N. Grand Ave. Sherman TX 75090-4400 United States;X-APPLE-RADIUS=500;X-TITLE=900 N. Grand Ave.:geo:-96.5980823,33.6469287
END:VEVENT
BEGIN:VEVENT
DTSTART;TZID=America/Chicago:20251110T180000
DTEND;TZID=America/Chicago:20251110T190000
DTSTAMP:20260422T031232
CREATED:20251114T201723Z
LAST-MODIFIED:20251114T201723Z
UID:11002335-1762797600-1762801200@tcog.com
SUMMARY:IDD and Neurodivergent Children and Young Adults Support Group
DESCRIPTION:We invite any parents of children and young adults with intellectual or developmental disabilities (IDD) and neurodivergent diagnoses to join a monthly support group designed to foster connection\, share resources\, and build community.
URL:https://tcog.com/event/idd-and-neurodivergent-children-and-young-adults-support-group/2025-11-10/
LOCATION:Eisenhower Room\, 1117 Gallagher Drive\, Suite 100\, Sherman\, TX\, 75090\, United States
CATEGORIES:Aging & Disability Resource Center,Aging Services
ORGANIZER;CN="Texoma Council of Governments":MAILTO:info@texoma.cog.tx.us
GEO:33.673164;-96.6024917
X-APPLE-STRUCTURED-LOCATION;VALUE=URI;X-ADDRESS=Eisenhower Room 1117 Gallagher Drive Suite 100 Sherman TX 75090 United States;X-APPLE-RADIUS=500;X-TITLE=1117 Gallagher Drive\, Suite 100:geo:-96.6024917,33.673164
END:VEVENT
BEGIN:VEVENT
DTSTART;TZID=America/Chicago:20251112T140000
DTEND;TZID=America/Chicago:20251112T150000
DTSTAMP:20260422T031232
CREATED:20251007T105057Z
LAST-MODIFIED:20251007T105618Z
UID:10001999-1762956000-1762959600@tcog.com
SUMMARY:Alzheimer's and Dementia Caregiver Support Group
DESCRIPTION:Caregivers need care too! Join our Alzheimer’s and Dementia Caregiver Support Group and connect with others who understand the journey. Share experiences\, find encouragement\, and build a community of support — because together\, we’re stronger.
URL:https://tcog.com/event/alzheimers-and-dementia-caregiver-support-group/2025-11-12/
LOCATION:Texoma Room\, 1117 Gallagher Drive\, Suite 270\, Sherman\, TX\, 75090\, United States
CATEGORIES:Aging Services
ORGANIZER;CN="Texoma Council of Governments":MAILTO:info@texoma.cog.tx.us
GEO:33.673164;-96.6024917
X-APPLE-STRUCTURED-LOCATION;VALUE=URI;X-ADDRESS=Texoma Room 1117 Gallagher Drive Suite 270 Sherman TX 75090 United States;X-APPLE-RADIUS=500;X-TITLE=1117 Gallagher Drive\, Suite 270:geo:-96.6024917,33.673164
END:VEVENT
BEGIN:VEVENT
DTSTART;TZID=America/New_York:20251113T090000
DTEND;TZID=America/New_York:20251113T130000
DTSTAMP:20260422T031232
CREATED:20171115T192058Z
LAST-MODIFIED:20230413T143035Z
UID:10000396-1763024400-1763038800@tcog.com
SUMMARY:FGP Monthly Inservice
DESCRIPTION:Monthly Foster Grandparents Program Volunteer training seminar.
URL:https://tcog.com/event/fgp-monthly-inservice/2025-11-13/
LOCATION:Eisenhower Room\, 1117 Gallagher Drive\, Suite 100\, Sherman\, TX\, 75090\, United States
CATEGORIES:Foster Grandparents
ATTACH;FMTTYPE=image/jpeg:https://tcog.com/wp-content/uploads/2017/11/Frances-W-FGP-Volunteer.jpg
GEO:33.673164;-96.6024917
X-APPLE-STRUCTURED-LOCATION;VALUE=URI;X-ADDRESS=Eisenhower Room 1117 Gallagher Drive Suite 100 Sherman TX 75090 United States;X-APPLE-RADIUS=500;X-TITLE=1117 Gallagher Drive\, Suite 100:geo:-96.6024917,33.673164
END:VEVENT
BEGIN:VEVENT
DTSTART;TZID=America/Chicago:20251113T160000
DTEND;TZID=America/Chicago:20251113T170000
DTSTAMP:20260422T031232
CREATED:20240903T211835Z
LAST-MODIFIED:20250701T210004Z
UID:10000735-1763049600-1763053200@tcog.com
SUMMARY:Audit and Finance Committee
DESCRIPTION:
URL:https://tcog.com/event/audit-and-finance-committee-2/2025-11-13/
LOCATION:Texoma Council of Governments\, 1117 Gallagher Dr\, Sherman\, 75090
CATEGORIES:Audit & Finance Subcommittee Meeting
ORGANIZER;CN="Texoma Council of Governments":MAILTO:info@texoma.cog.tx.us
GEO:33.6731385;-96.6024082
X-APPLE-STRUCTURED-LOCATION;VALUE=URI;X-ADDRESS=Texoma Council of Governments 1117 Gallagher Dr Sherman 75090;X-APPLE-RADIUS=500;X-TITLE=1117 Gallagher Dr:geo:-96.6024082,33.6731385
END:VEVENT
BEGIN:VEVENT
DTSTART;TZID=America/Chicago:20251113T163000
DTEND;TZID=America/Chicago:20251113T170000
DTSTAMP:20260422T031232
CREATED:20230403T163205Z
LAST-MODIFIED:20230403T163205Z
UID:10001648-1763051400-1763053200@tcog.com
SUMMARY:Executive Officers Meeting
DESCRIPTION:
URL:https://tcog.com/event/executive-officers-meeting/2025-11-13/
LOCATION:Texoma Council of Governments\, 1117 Gallagher Dr\, Sherman\, 75090
CATEGORIES:Executive Officers Committee Meeting
ORGANIZER;CN="Texoma Council of Governments":MAILTO:info@texoma.cog.tx.us
GEO:33.6731385;-96.6024082
X-APPLE-STRUCTURED-LOCATION;VALUE=URI;X-ADDRESS=Texoma Council of Governments 1117 Gallagher Dr Sherman 75090;X-APPLE-RADIUS=500;X-TITLE=1117 Gallagher Dr:geo:-96.6024082,33.6731385
END:VEVENT
BEGIN:VEVENT
DTSTART;TZID=America/Chicago:20251113T170000
DTEND;TZID=America/Chicago:20251113T171500
DTSTAMP:20260422T031232
CREATED:20241002T224438Z
LAST-MODIFIED:20250701T210109Z
UID:10001817-1763053200-1763054100@tcog.com
SUMMARY:Executive Officers Committee
DESCRIPTION:
URL:https://tcog.com/event/executive-officers-committee-2-2/2025-11-13/
LOCATION:Texoma Council of Governments\, 1117 Gallagher Dr\, Sherman\, 75090
CATEGORIES:Executive Officers Committee Meeting
ORGANIZER;CN="Texoma Council of Governments":MAILTO:info@texoma.cog.tx.us
GEO:33.6731385;-96.6024082
X-APPLE-STRUCTURED-LOCATION;VALUE=URI;X-ADDRESS=Texoma Council of Governments 1117 Gallagher Dr Sherman 75090;X-APPLE-RADIUS=500;X-TITLE=1117 Gallagher Dr:geo:-96.6024082,33.6731385
END:VEVENT
BEGIN:VEVENT
DTSTART;TZID=America/Chicago:20251118T173000
DTEND;TZID=America/Chicago:20251118T210000
DTSTAMP:20260422T031232
CREATED:20240624T211453Z
LAST-MODIFIED:20240624T212124Z
UID:10000664-1763487000-1763499600@tcog.com
SUMMARY:Grayson County Amateur Radio Club
DESCRIPTION:
URL:https://tcog.com/event/grayson-county-amateur-radio-club/2025-11-18/
LOCATION:Texoma Council of Governments\, 1117 Gallagher Dr\, Sherman\, 75090
ATTACH;FMTTYPE=image/jpeg:https://tcog.com/wp-content/uploads/2024/06/GCARC.jpeg
ORGANIZER;CN="Texoma Council of Governments":MAILTO:info@texoma.cog.tx.us
GEO:33.6731385;-96.6024082
X-APPLE-STRUCTURED-LOCATION;VALUE=URI;X-ADDRESS=Texoma Council of Governments 1117 Gallagher Dr Sherman 75090;X-APPLE-RADIUS=500;X-TITLE=1117 Gallagher Dr:geo:-96.6024082,33.6731385
END:VEVENT
BEGIN:VEVENT
DTSTART;TZID=America/Chicago:20251120T173000
DTEND;TZID=America/Chicago:20251120T190000
DTSTAMP:20260422T031232
CREATED:20251113T142224Z
LAST-MODIFIED:20260116T123303Z
UID:10001617-1763659800-1763665200@tcog.com
SUMMARY:Governing Board Meeting
DESCRIPTION:AgendaTexoma Council of Governments \n1117 Gallagher Drive (Eisenhower Room)\, Sherman\, Texas\nThursday\, November 20\, 2025 – 5:30 pm\n\n\n \n\n\n\nCall to Order & Declaration of a Quorum\nInvocation and Pledges\nWelcome Guests\nPublic Comment\nExecutive Director’s Report\nApproval of Minutes\nConsent\n\nFYE 2025 TCOG Annual Report\nInterlocal Agreement for 911 Addressing Services\nTexoma Regional Threat & Hazard Identification Risk Assessment (THIRA) and 2025 Stakeholder Preparedness Review (SPR)\nFY 26 Texoma Risk Informed Methodology\n\n\n Action\n\nFYE 2026 Cost Pool Report and Monthly Financial Statements\n\n\nExecutive Session\nPresident’s Report\nAdjourn
URL:https://tcog.com/event/governing-board-meeting-18-13/
LOCATION:Texoma Council of Governments\, 1117 Gallagher Dr\, Sherman\, 75090
CATEGORIES:Governing Board Meeting
ATTACH;FMTTYPE=image/png:https://tcog.com/wp-content/uploads/2017/10/TCOG-Governing-Board-Meeting-Featured-Photo-Placeholder.png
ORGANIZER;CN="Texoma Council of Governments":MAILTO:info@texoma.cog.tx.us
GEO:33.6731385;-96.6024082
X-APPLE-STRUCTURED-LOCATION;VALUE=URI;X-ADDRESS=Texoma Council of Governments 1117 Gallagher Dr Sherman 75090;X-APPLE-RADIUS=500;X-TITLE=1117 Gallagher Dr:geo:-96.6024082,33.6731385
END:VEVENT
END:VCALENDAR