BEGIN:VCALENDAR
VERSION:2.0
PRODID:-//Texoma Council of Governments - ECPv6.15.20//NONSGML v1.0//EN
CALSCALE:GREGORIAN
METHOD:PUBLISH
X-WR-CALNAME:Texoma Council of Governments
X-ORIGINAL-URL:https://tcog.com
X-WR-CALDESC:Events for Texoma Council of Governments
REFRESH-INTERVAL;VALUE=DURATION:PT1H
X-Robots-Tag:noindex
X-PUBLISHED-TTL:PT1H
BEGIN:VTIMEZONE
TZID:America/Chicago
BEGIN:DAYLIGHT
TZOFFSETFROM:-0600
TZOFFSETTO:-0500
TZNAME:CDT
DTSTART:20240310T080000
END:DAYLIGHT
BEGIN:STANDARD
TZOFFSETFROM:-0500
TZOFFSETTO:-0600
TZNAME:CST
DTSTART:20241103T070000
END:STANDARD
BEGIN:DAYLIGHT
TZOFFSETFROM:-0600
TZOFFSETTO:-0500
TZNAME:CDT
DTSTART:20250309T080000
END:DAYLIGHT
BEGIN:STANDARD
TZOFFSETFROM:-0500
TZOFFSETTO:-0600
TZNAME:CST
DTSTART:20251102T070000
END:STANDARD
BEGIN:DAYLIGHT
TZOFFSETFROM:-0600
TZOFFSETTO:-0500
TZNAME:CDT
DTSTART:20260308T080000
END:DAYLIGHT
BEGIN:STANDARD
TZOFFSETFROM:-0500
TZOFFSETTO:-0600
TZNAME:CST
DTSTART:20261101T070000
END:STANDARD
END:VTIMEZONE
BEGIN:VTIMEZONE
TZID:America/New_York
BEGIN:DAYLIGHT
TZOFFSETFROM:-0500
TZOFFSETTO:-0400
TZNAME:EDT
DTSTART:20240310T070000
END:DAYLIGHT
BEGIN:STANDARD
TZOFFSETFROM:-0400
TZOFFSETTO:-0500
TZNAME:EST
DTSTART:20241103T060000
END:STANDARD
BEGIN:DAYLIGHT
TZOFFSETFROM:-0500
TZOFFSETTO:-0400
TZNAME:EDT
DTSTART:20250309T070000
END:DAYLIGHT
BEGIN:STANDARD
TZOFFSETFROM:-0400
TZOFFSETTO:-0500
TZNAME:EST
DTSTART:20251102T060000
END:STANDARD
BEGIN:DAYLIGHT
TZOFFSETFROM:-0500
TZOFFSETTO:-0400
TZNAME:EDT
DTSTART:20260308T070000
END:DAYLIGHT
BEGIN:STANDARD
TZOFFSETFROM:-0400
TZOFFSETTO:-0500
TZNAME:EST
DTSTART:20261101T060000
END:STANDARD
END:VTIMEZONE
BEGIN:VEVENT
DTSTART;TZID=America/Chicago:20251008T133000
DTEND;TZID=America/Chicago:20251008T153000
DTSTAMP:20260422T044326
CREATED:20250930T222255Z
LAST-MODIFIED:20251001T204821Z
UID:10001886-1759930200-1759937400@tcog.com
SUMMARY:Community Justice Advisory Committee
DESCRIPTION:AgendaCriminal Justice Advisory Committee \nWednesday\, October 8\, 2025 – 1:30 pm\n\n\n \n1. Call to order and declaration of a quorum\n2. Invocation\n3. Program Update from TCOG staff\n4. FY26 CJD Funded Projects\n5. Review of TCOG CJAC representation and vacancies\n6. Appointment of CJAC nomination membership committee\n7. Review\, discuss\, and possible action regarding FY27 Texoma CJD priorities\n8. Review\, discussion\, and possible action regarding FY27 score sheet\n9. Review\, discussion\, and possible action regarding the 2025 Texoma Regional Criminal Justice Community Plan\n10. Upcoming dates\n11. Public comment\n12. Adjournment \nPersons with disabilities who plan to attend this meeting and who may need auxiliary aids or services are requested to contact TCOG Public Safety at 903-813-3552 no later than 9 a.m. the morning of the meeting so that appropriate arrangements can be made. The above Agenda was posted at the Texoma Council of Governments office and on the TCOG website on October 1\, 2025 \nMiranda Harp\nCriminal Justice & Emergency Planning Program Supervisor
URL:https://tcog.com/event/community-justice-advisory-committee/
LOCATION:Eisenhower Room\, 1117 Gallagher Drive\, Suite 100\, Sherman\, TX\, 75090\, United States
CATEGORIES:Criminal Justice,Criminal Justice Advisory Committee Meeting,Public Safety
ORGANIZER;CN="Texoma Council of Governments":MAILTO:info@texoma.cog.tx.us
GEO:33.673164;-96.6024917
X-APPLE-STRUCTURED-LOCATION;VALUE=URI;X-ADDRESS=Eisenhower Room 1117 Gallagher Drive Suite 100 Sherman TX 75090 United States;X-APPLE-RADIUS=500;X-TITLE=1117 Gallagher Drive\, Suite 100:geo:-96.6024917,33.673164
END:VEVENT
BEGIN:VEVENT
DTSTART;TZID=America/Chicago:20251008T140000
DTEND;TZID=America/Chicago:20251008T150000
DTSTAMP:20260422T044326
CREATED:20251007T105057Z
LAST-MODIFIED:20251007T105618Z
UID:10001887-1759932000-1759935600@tcog.com
SUMMARY:Alzheimer's and Dementia Caregiver Support Group
DESCRIPTION:Caregivers need care too! Join our Alzheimer’s and Dementia Caregiver Support Group and connect with others who understand the journey. Share experiences\, find encouragement\, and build a community of support — because together\, we’re stronger.
URL:https://tcog.com/event/alzheimers-and-dementia-caregiver-support-group/2025-10-08/
LOCATION:Texoma Room\, 1117 Gallagher Drive\, Suite 270\, Sherman\, TX\, 75090\, United States
CATEGORIES:Aging Services
ORGANIZER;CN="Texoma Council of Governments":MAILTO:info@texoma.cog.tx.us
GEO:33.673164;-96.6024917
X-APPLE-STRUCTURED-LOCATION;VALUE=URI;X-ADDRESS=Texoma Room 1117 Gallagher Drive Suite 270 Sherman TX 75090 United States;X-APPLE-RADIUS=500;X-TITLE=1117 Gallagher Drive\, Suite 270:geo:-96.6024917,33.673164
END:VEVENT
BEGIN:VEVENT
DTSTART;TZID=America/New_York:20251009T090000
DTEND;TZID=America/New_York:20251009T130000
DTSTAMP:20260422T044326
CREATED:20171115T192058Z
LAST-MODIFIED:20230413T143035Z
UID:10000395-1760000400-1760014800@tcog.com
SUMMARY:FGP Monthly Inservice
DESCRIPTION:Monthly Foster Grandparents Program Volunteer training seminar.
URL:https://tcog.com/event/fgp-monthly-inservice/2025-10-09/
LOCATION:Eisenhower Room\, 1117 Gallagher Drive\, Suite 100\, Sherman\, TX\, 75090\, United States
CATEGORIES:Foster Grandparents
ATTACH;FMTTYPE=image/jpeg:https://tcog.com/wp-content/uploads/2017/11/Frances-W-FGP-Volunteer.jpg
GEO:33.673164;-96.6024917
X-APPLE-STRUCTURED-LOCATION;VALUE=URI;X-ADDRESS=Eisenhower Room 1117 Gallagher Drive Suite 100 Sherman TX 75090 United States;X-APPLE-RADIUS=500;X-TITLE=1117 Gallagher Drive\, Suite 100:geo:-96.6024917,33.673164
END:VEVENT
BEGIN:VEVENT
DTSTART;TZID=America/Chicago:20251009T160000
DTEND;TZID=America/Chicago:20251009T170000
DTSTAMP:20260422T044326
CREATED:20240903T211835Z
LAST-MODIFIED:20250701T210004Z
UID:10000734-1760025600-1760029200@tcog.com
SUMMARY:Audit and Finance Committee
DESCRIPTION:
URL:https://tcog.com/event/audit-and-finance-committee-2/2025-10-09/
LOCATION:Texoma Council of Governments\, 1117 Gallagher Dr\, Sherman\, 75090
CATEGORIES:Audit & Finance Subcommittee Meeting
ORGANIZER;CN="Texoma Council of Governments":MAILTO:info@texoma.cog.tx.us
GEO:33.6731385;-96.6024082
X-APPLE-STRUCTURED-LOCATION;VALUE=URI;X-ADDRESS=Texoma Council of Governments 1117 Gallagher Dr Sherman 75090;X-APPLE-RADIUS=500;X-TITLE=1117 Gallagher Dr:geo:-96.6024082,33.6731385
END:VEVENT
BEGIN:VEVENT
DTSTART;TZID=America/Chicago:20251009T163000
DTEND;TZID=America/Chicago:20251009T170000
DTSTAMP:20260422T044326
CREATED:20230403T163205Z
LAST-MODIFIED:20230403T163205Z
UID:10001647-1760027400-1760029200@tcog.com
SUMMARY:Executive Officers Meeting
DESCRIPTION:
URL:https://tcog.com/event/executive-officers-meeting/2025-10-09/
LOCATION:Texoma Council of Governments\, 1117 Gallagher Dr\, Sherman\, 75090
CATEGORIES:Executive Officers Committee Meeting
ORGANIZER;CN="Texoma Council of Governments":MAILTO:info@texoma.cog.tx.us
GEO:33.6731385;-96.6024082
X-APPLE-STRUCTURED-LOCATION;VALUE=URI;X-ADDRESS=Texoma Council of Governments 1117 Gallagher Dr Sherman 75090;X-APPLE-RADIUS=500;X-TITLE=1117 Gallagher Dr:geo:-96.6024082,33.6731385
END:VEVENT
BEGIN:VEVENT
DTSTART;TZID=America/Chicago:20251009T170000
DTEND;TZID=America/Chicago:20251009T171500
DTSTAMP:20260422T044326
CREATED:20241002T224438Z
LAST-MODIFIED:20250701T210109Z
UID:10001816-1760029200-1760030100@tcog.com
SUMMARY:Executive Officers Committee
DESCRIPTION:
URL:https://tcog.com/event/executive-officers-committee-2-2/2025-10-09/
LOCATION:Texoma Council of Governments\, 1117 Gallagher Dr\, Sherman\, 75090
CATEGORIES:Executive Officers Committee Meeting
ORGANIZER;CN="Texoma Council of Governments":MAILTO:info@texoma.cog.tx.us
GEO:33.6731385;-96.6024082
X-APPLE-STRUCTURED-LOCATION;VALUE=URI;X-ADDRESS=Texoma Council of Governments 1117 Gallagher Dr Sherman 75090;X-APPLE-RADIUS=500;X-TITLE=1117 Gallagher Dr:geo:-96.6024082,33.6731385
END:VEVENT
BEGIN:VEVENT
DTSTART;TZID=America/Chicago:20251016T133000
DTEND;TZID=America/Chicago:20251016T150000
DTSTAMP:20260422T044326
CREATED:20260113T232924Z
LAST-MODIFIED:20260113T232924Z
UID:11002492-1760621400-1760626800@tcog.com
SUMMARY:Homeland Security Advisory Committee
DESCRIPTION:AgendaPresiding location: Texoma Council of Governments\n1117 Gallagher Drive (Eisenhower Room – 1st Floor)\, Sherman\, Texas\nThursday\, October 16\, 2025 – 1:30pm\n\n\n \n1. Call to order\n2. Introductions\n3. Review and action related to the 01/23/25 HSAC Meeting minutes\n4. Information briefing related to Homeland Security FY25 grant funds\n5. Information briefing related to Homeland Security FY26 grant funds\n6. Review\, discussion\, and possible action on the risk-informed methodology and allocation method for FY26 Homeland Security Grant Program funds\n7. Review\, discussion\, and possible action on the 2025 Texoma Threat and Hazar Identification and Risk Assessment (THIRA)\n8. Review\, discussion\, and possible action on the 2025 Texoma Stakeholder Preparedness Review (SPR)\n9. Public Comment\n10. Adjournment \n  \nThe next HSAC meeting is tentatively set for January 2026. This meeting may change to meet the Texas Homeland Security Grant Division (HSGD) required deliverables. \nPersons with disabilities who plan to attend this meeting and who may need auxiliary aids or services are requested to contact Miranda Harp 903-813-3552 no later than 9:00 a.m. the morning of the meeting so that appropriate arrangements can be made.  This Agenda was posted at the Texoma Council of Governments in a place readily accessible to the public and on the TCOG website on January 16\, 2025
URL:https://tcog.com/event/homeland-security-advisory-committee-2/
LOCATION:Texoma Council of Governments\, 1117 Gallagher Dr\, Sherman\, 75090
CATEGORIES:Homeland Security Advisory Committee Meeting
ORGANIZER;CN="Texoma Council of Governments":MAILTO:info@texoma.cog.tx.us
GEO:33.6731385;-96.6024082
X-APPLE-STRUCTURED-LOCATION;VALUE=URI;X-ADDRESS=Texoma Council of Governments 1117 Gallagher Dr Sherman 75090;X-APPLE-RADIUS=500;X-TITLE=1117 Gallagher Dr:geo:-96.6024082,33.6731385
END:VEVENT
BEGIN:VEVENT
DTSTART;TZID=America/Chicago:20251016T173000
DTEND;TZID=America/Chicago:20251016T190000
DTSTAMP:20260422T044326
CREATED:20251007T120443Z
LAST-MODIFIED:20251121T120441Z
UID:10001616-1760635800-1760641200@tcog.com
SUMMARY:Governing Board Meeting
DESCRIPTION:AgendaTexoma Council of Governments \n1117 Gallagher Drive (Eisenhower Room)\, Sherman\, Texas\nThursday\, October 16\, 2025 – 5:30 pm\n\n\n \n\nCall to Order & Declaration of a Quorum\nInvocation and Pledges\nWelcome Guests\nPublic Comment\nExecutive Director’s Report\nApproval of Minutes\nConsent\n\nTCOG 2025 Criminal Justice Community Plan\nU.S. Department of Energy Bipartisan Infrastructure Law (DOE-BIL) Contract Amendment #3\nQuarterly Investment Report\n\n\n Action\n\nSection 8 Family Self-Sufficiency (FSS) Coordinator Grant\nFY 2025 US Department of Energy (DOE) Weatherization Assistance Program contract #56250004492\nFYE 2026 Cost Pool Report and Monthly Financial Statements\n\n\nExecutive Session\nPresident’s Report\nAdjourn
URL:https://tcog.com/event/governing-board-meeting-18-12/
LOCATION:Texoma Council of Governments\, 1117 Gallagher Dr\, Sherman\, 75090
CATEGORIES:Governing Board Meeting
ATTACH;FMTTYPE=image/png:https://tcog.com/wp-content/uploads/2017/10/TCOG-Governing-Board-Meeting-Featured-Photo-Placeholder.png
ORGANIZER;CN="Texoma Council of Governments":MAILTO:info@texoma.cog.tx.us
GEO:33.6731385;-96.6024082
X-APPLE-STRUCTURED-LOCATION;VALUE=URI;X-ADDRESS=Texoma Council of Governments 1117 Gallagher Dr Sherman 75090;X-APPLE-RADIUS=500;X-TITLE=1117 Gallagher Dr:geo:-96.6024082,33.6731385
END:VEVENT
BEGIN:VEVENT
DTSTART;TZID=America/Chicago:20251021T100000
DTEND;TZID=America/Chicago:20251021T113000
DTSTAMP:20260422T044326
CREATED:20251015T205156Z
LAST-MODIFIED:20251015T205156Z
UID:10002112-1761040800-1761046200@tcog.com
SUMMARY:Community Services Advisory Council Meeting
DESCRIPTION:CSAC Oct 2025 Agenda
URL:https://tcog.com/event/community-services-advisory-council-meeting-2/
LOCATION:Texoma Council of Governments\, 1117 Gallagher Dr\, Sherman\, 75090
ORGANIZER;CN="Texoma Council of Governments":MAILTO:info@texoma.cog.tx.us
GEO:33.6731385;-96.6024082
X-APPLE-STRUCTURED-LOCATION;VALUE=URI;X-ADDRESS=Texoma Council of Governments 1117 Gallagher Dr Sherman 75090;X-APPLE-RADIUS=500;X-TITLE=1117 Gallagher Dr:geo:-96.6024082,33.6731385
END:VEVENT
BEGIN:VEVENT
DTSTART;TZID=America/Chicago:20251021T173000
DTEND;TZID=America/Chicago:20251021T210000
DTSTAMP:20260422T044326
CREATED:20240624T211453Z
LAST-MODIFIED:20240624T212124Z
UID:10000663-1761067800-1761080400@tcog.com
SUMMARY:Grayson County Amateur Radio Club
DESCRIPTION:
URL:https://tcog.com/event/grayson-county-amateur-radio-club/2025-10-21/
LOCATION:Texoma Council of Governments\, 1117 Gallagher Dr\, Sherman\, 75090
ATTACH;FMTTYPE=image/jpeg:https://tcog.com/wp-content/uploads/2024/06/GCARC.jpeg
ORGANIZER;CN="Texoma Council of Governments":MAILTO:info@texoma.cog.tx.us
GEO:33.6731385;-96.6024082
X-APPLE-STRUCTURED-LOCATION;VALUE=URI;X-ADDRESS=Texoma Council of Governments 1117 Gallagher Dr Sherman 75090;X-APPLE-RADIUS=500;X-TITLE=1117 Gallagher Dr:geo:-96.6024082,33.6731385
END:VEVENT
END:VCALENDAR