BEGIN:VCALENDAR
VERSION:2.0
PRODID:-//Texoma Council of Governments - ECPv6.15.20//NONSGML v1.0//EN
CALSCALE:GREGORIAN
METHOD:PUBLISH
X-WR-CALNAME:Texoma Council of Governments
X-ORIGINAL-URL:https://tcog.com
X-WR-CALDESC:Events for Texoma Council of Governments
REFRESH-INTERVAL;VALUE=DURATION:PT1H
X-Robots-Tag:noindex
X-PUBLISHED-TTL:PT1H
BEGIN:VTIMEZONE
TZID:America/Chicago
BEGIN:DAYLIGHT
TZOFFSETFROM:-0600
TZOFFSETTO:-0500
TZNAME:CDT
DTSTART:20250309T080000
END:DAYLIGHT
BEGIN:STANDARD
TZOFFSETFROM:-0500
TZOFFSETTO:-0600
TZNAME:CST
DTSTART:20251102T070000
END:STANDARD
BEGIN:DAYLIGHT
TZOFFSETFROM:-0600
TZOFFSETTO:-0500
TZNAME:CDT
DTSTART:20260308T080000
END:DAYLIGHT
BEGIN:STANDARD
TZOFFSETFROM:-0500
TZOFFSETTO:-0600
TZNAME:CST
DTSTART:20261101T070000
END:STANDARD
BEGIN:DAYLIGHT
TZOFFSETFROM:-0600
TZOFFSETTO:-0500
TZNAME:CDT
DTSTART:20270314T080000
END:DAYLIGHT
BEGIN:STANDARD
TZOFFSETFROM:-0500
TZOFFSETTO:-0600
TZNAME:CST
DTSTART:20271107T070000
END:STANDARD
END:VTIMEZONE
BEGIN:VTIMEZONE
TZID:America/New_York
BEGIN:DAYLIGHT
TZOFFSETFROM:-0500
TZOFFSETTO:-0400
TZNAME:EDT
DTSTART:20250309T070000
END:DAYLIGHT
BEGIN:STANDARD
TZOFFSETFROM:-0400
TZOFFSETTO:-0500
TZNAME:EST
DTSTART:20251102T060000
END:STANDARD
BEGIN:DAYLIGHT
TZOFFSETFROM:-0500
TZOFFSETTO:-0400
TZNAME:EDT
DTSTART:20260308T070000
END:DAYLIGHT
BEGIN:STANDARD
TZOFFSETFROM:-0400
TZOFFSETTO:-0500
TZNAME:EST
DTSTART:20261101T060000
END:STANDARD
BEGIN:DAYLIGHT
TZOFFSETFROM:-0500
TZOFFSETTO:-0400
TZNAME:EDT
DTSTART:20270314T070000
END:DAYLIGHT
BEGIN:STANDARD
TZOFFSETFROM:-0400
TZOFFSETTO:-0500
TZNAME:EST
DTSTART:20271107T060000
END:STANDARD
END:VTIMEZONE
BEGIN:VEVENT
DTSTART;TZID=America/Chicago:20260112T180000
DTEND;TZID=America/Chicago:20260112T190000
DTSTAMP:20260421T210149
CREATED:20251114T201723Z
LAST-MODIFIED:20251114T201723Z
UID:11002337-1768240800-1768244400@tcog.com
SUMMARY:IDD and Neurodivergent Children and Young Adults Support Group
DESCRIPTION:We invite any parents of children and young adults with intellectual or developmental disabilities (IDD) and neurodivergent diagnoses to join a monthly support group designed to foster connection\, share resources\, and build community.
URL:https://tcog.com/event/idd-and-neurodivergent-children-and-young-adults-support-group/2026-01-12/
LOCATION:Eisenhower Room\, 1117 Gallagher Drive\, Suite 100\, Sherman\, TX\, 75090\, United States
CATEGORIES:Aging & Disability Resource Center,Aging Services
ORGANIZER;CN="Texoma Council of Governments":MAILTO:info@texoma.cog.tx.us
GEO:33.673164;-96.6024917
X-APPLE-STRUCTURED-LOCATION;VALUE=URI;X-ADDRESS=Eisenhower Room 1117 Gallagher Drive Suite 100 Sherman TX 75090 United States;X-APPLE-RADIUS=500;X-TITLE=1117 Gallagher Drive\, Suite 100:geo:-96.6024917,33.673164
END:VEVENT
BEGIN:VEVENT
DTSTART;TZID=America/Chicago:20260114T140000
DTEND;TZID=America/Chicago:20260114T150000
DTSTAMP:20260421T210149
CREATED:20251007T105057Z
LAST-MODIFIED:20251007T105618Z
UID:10002001-1768399200-1768402800@tcog.com
SUMMARY:Alzheimer's and Dementia Caregiver Support Group
DESCRIPTION:Caregivers need care too! Join our Alzheimer’s and Dementia Caregiver Support Group and connect with others who understand the journey. Share experiences\, find encouragement\, and build a community of support — because together\, we’re stronger.
URL:https://tcog.com/event/alzheimers-and-dementia-caregiver-support-group/2026-01-14/
LOCATION:Texoma Room\, 1117 Gallagher Drive\, Suite 270\, Sherman\, TX\, 75090\, United States
CATEGORIES:Aging Services
ORGANIZER;CN="Texoma Council of Governments":MAILTO:info@texoma.cog.tx.us
GEO:33.673164;-96.6024917
X-APPLE-STRUCTURED-LOCATION;VALUE=URI;X-ADDRESS=Texoma Room 1117 Gallagher Drive Suite 270 Sherman TX 75090 United States;X-APPLE-RADIUS=500;X-TITLE=1117 Gallagher Drive\, Suite 270:geo:-96.6024917,33.673164
END:VEVENT
BEGIN:VEVENT
DTSTART;TZID=America/Chicago:20260115T100000
DTEND;TZID=America/Chicago:20260115T113000
DTSTAMP:20260421T210149
CREATED:20260113T115841Z
LAST-MODIFIED:20260113T115841Z
UID:11002491-1768471200-1768476600@tcog.com
SUMMARY:Natural Resources Advisory Committee
DESCRIPTION:AgendaTexoma Council of Governments\nNatural Resources Advisory Committee Meeting \nTo be held online: \nJoin the meeting \nMeeting ID: 292 047 921 426 1 \nPasscode: 8nh7aX6a \nThursday\, January 15\, 2026 – 10:00 am\n\n\n\n\nOpening of meeting and declaration of quorum\nPublic comment\nApproval of minutes\nReview and discussion submitted proposals for HHW events\nVote on Proposal for FY 26\nDiscuss any new business\nAdjourn
URL:https://tcog.com/event/natural-resources-advisory-committee-2/
LOCATION:Texoma Council of Governments\, 1117 Gallagher Dr\, Sherman\, 75090
CATEGORIES:Board & Committee Meetings,Natural Resources Advisory Committee Meeting
ORGANIZER;CN="Texoma Council of Governments":MAILTO:info@texoma.cog.tx.us
GEO:33.6731385;-96.6024082
X-APPLE-STRUCTURED-LOCATION;VALUE=URI;X-ADDRESS=Texoma Council of Governments 1117 Gallagher Dr Sherman 75090;X-APPLE-RADIUS=500;X-TITLE=1117 Gallagher Dr:geo:-96.6024082,33.6731385
END:VEVENT
BEGIN:VEVENT
DTSTART;TZID=America/Chicago:20260115T173000
DTEND;TZID=America/Chicago:20260115T190000
DTSTAMP:20260421T210149
CREATED:20260109T150740Z
LAST-MODIFIED:20260220T120239Z
UID:11002429-1768498200-1768503600@tcog.com
SUMMARY:Governing Board Meeting
DESCRIPTION:AgendaTexoma Council of Governments \n1117 Gallagher Drive (Eisenhower Room)\, Sherman\, Texas\nThursday\, January 15\, 2026 – 5:30 pm\n\n\n \n\n\n\nCall to Order & Declaration of a Quorum\nInvocation and Pledges\nWelcome Guests\nPublic Comment\nExecutive Director’s Report\nApproval of Minutes\nConsent\n\nRatify FYE 2025 Comprehensive Energy Assistance Program Contract #58250004435 Amendment 1\nRatify FY 2025 Low Income Home Energy Assistance Program Contract #81250004458 Amendment 2\nRatify PY 2025 Community Services Block Grant Program Contract # 61250004366 Amendment 4\nAuthorize submission of Annual Section 8 Management Assessment Program Certification\nAccept Quarterly Investment Report\n\n\n Action\n\nAccept FY 2026 Low Income Home Energy Assistance Program Contract #812260004613\nRatify FY 2025 Comprehensive Energy Assistance Program Contract #58250004400 Amendment 3\nAccept FY 2026 Comprehensive Energy Assistance Program Contract #58260004555\nAccept FY 2026 Comprehensive Energy Assistance Program Contract #58260004590\nAccept PY 2026 Community Services Block Grant Program Contract #61260004650\nAuthorize execution of agreement with Household Hazardous Waste Collection and Disposal contractor\nAuthorize submission of Texas Veterans Commission Fund for Veterans Assistance Grant Program application\nAuthorize submission of the Texas Regional Broadband Program Grant application\nAppoint TCOG Board Designee and Alternate(s) to the Texas Association of Regional Councils\nReview and accept the monthly Cost Pool Report and Financial Statements\n\n\nPresident’s Report\nAdjourn
URL:https://tcog.com/event/governing-board-meeting-15-2-2/
LOCATION:Eisenhower Room\, 1117 Gallagher Drive\, Suite 100\, Sherman\, TX\, 75090\, United States
CATEGORIES:Board & Committee Meetings,Governing Board Meeting
ATTACH;FMTTYPE=image/png:https://tcog.com/wp-content/uploads/2017/10/TCOG-Governing-Board-Meeting-Featured-Photo-Placeholder.png
ORGANIZER;CN="Texoma Council of Governments":MAILTO:info@texoma.cog.tx.us
GEO:33.673164;-96.6024917
X-APPLE-STRUCTURED-LOCATION;VALUE=URI;X-ADDRESS=Eisenhower Room 1117 Gallagher Drive Suite 100 Sherman TX 75090 United States;X-APPLE-RADIUS=500;X-TITLE=1117 Gallagher Drive\, Suite 100:geo:-96.6024917,33.673164
END:VEVENT
BEGIN:VEVENT
DTSTART;TZID=America/Chicago:20260120T173000
DTEND;TZID=America/Chicago:20260120T210000
DTSTAMP:20260421T210149
CREATED:20240624T211453Z
LAST-MODIFIED:20240624T212124Z
UID:10000666-1768930200-1768942800@tcog.com
SUMMARY:Grayson County Amateur Radio Club
DESCRIPTION:
URL:https://tcog.com/event/grayson-county-amateur-radio-club/2026-01-20/
LOCATION:Texoma Council of Governments\, 1117 Gallagher Dr\, Sherman\, 75090
ATTACH;FMTTYPE=image/jpeg:https://tcog.com/wp-content/uploads/2024/06/GCARC.jpeg
ORGANIZER;CN="Texoma Council of Governments":MAILTO:info@texoma.cog.tx.us
GEO:33.6731385;-96.6024082
X-APPLE-STRUCTURED-LOCATION;VALUE=URI;X-ADDRESS=Texoma Council of Governments 1117 Gallagher Dr Sherman 75090;X-APPLE-RADIUS=500;X-TITLE=1117 Gallagher Dr:geo:-96.6024082,33.6731385
END:VEVENT
BEGIN:VEVENT
DTSTART;TZID=America/Chicago:20260129T140000
DTEND;TZID=America/Chicago:20260129T150000
DTSTAMP:20260421T210149
CREATED:20251203T141805Z
LAST-MODIFIED:20251203T141805Z
UID:11002413-1769695200-1769698800@tcog.com
SUMMARY:ArtsWorks for Seniors
DESCRIPTION:
URL:https://tcog.com/event/artsworks-for-seniors/2026-01-29/
LOCATION:ArtWorks\, 510 W. Main Street\, Denison\, 75020\, United States
ATTACH;FMTTYPE=image/jpeg:https://tcog.com/wp-content/uploads/2025/12/ArtWorks_edited.jpg
ORGANIZER;CN="Texoma Council of Governments":MAILTO:info@texoma.cog.tx.us
END:VEVENT
BEGIN:VEVENT
DTSTART;TZID=America/Chicago:20260210T090000
DTEND;TZID=America/Chicago:20260210T113000
DTSTAMP:20260421T210149
CREATED:20251202T112809Z
LAST-MODIFIED:20251202T112809Z
UID:11002396-1770714000-1770723000@tcog.com
SUMMARY:TDA Stakeholder Feedback Session
DESCRIPTION:
URL:https://tcog.com/event/tda-stakeholder-feedback-session/
LOCATION:Eisenhower Room\, 1117 Gallagher Drive\, Suite 100\, Sherman\, TX\, 75090\, United States
CATEGORIES:Regional Services,TxCDBG
ATTACH;FMTTYPE=image/png:https://tcog.com/wp-content/uploads/2025/12/TxCDBG-2025-Stakeholder-Feedback-Session.png
ORGANIZER;CN="Texoma Council of Governments":MAILTO:info@texoma.cog.tx.us
GEO:33.673164;-96.6024917
X-APPLE-STRUCTURED-LOCATION;VALUE=URI;X-ADDRESS=Eisenhower Room 1117 Gallagher Drive Suite 100 Sherman TX 75090 United States;X-APPLE-RADIUS=500;X-TITLE=1117 Gallagher Drive\, Suite 100:geo:-96.6024917,33.673164
END:VEVENT
BEGIN:VEVENT
DTSTART;TZID=America/New_York:20260212T090000
DTEND;TZID=America/New_York:20260212T130000
DTSTAMP:20260421T210149
CREATED:20171115T192058Z
LAST-MODIFIED:20230413T143035Z
UID:10000399-1770886800-1770901200@tcog.com
SUMMARY:FGP Monthly Inservice
DESCRIPTION:Monthly Foster Grandparents Program Volunteer training seminar.
URL:https://tcog.com/event/fgp-monthly-inservice/2026-02-12/
LOCATION:Eisenhower Room\, 1117 Gallagher Drive\, Suite 100\, Sherman\, TX\, 75090\, United States
CATEGORIES:Foster Grandparents
ATTACH;FMTTYPE=image/jpeg:https://tcog.com/wp-content/uploads/2017/11/Frances-W-FGP-Volunteer.jpg
GEO:33.673164;-96.6024917
X-APPLE-STRUCTURED-LOCATION;VALUE=URI;X-ADDRESS=Eisenhower Room 1117 Gallagher Drive Suite 100 Sherman TX 75090 United States;X-APPLE-RADIUS=500;X-TITLE=1117 Gallagher Drive\, Suite 100:geo:-96.6024917,33.673164
END:VEVENT
BEGIN:VEVENT
DTSTART;TZID=America/Chicago:20260212T100000
DTEND;TZID=America/Chicago:20260212T104500
DTSTAMP:20260421T210149
CREATED:20260121T174944Z
LAST-MODIFIED:20260121T174944Z
UID:11002493-1770890400-1770893100@tcog.com
SUMMARY:POVERTY SECTOR REPRESENTATIVE ELECTION
DESCRIPTION:NOTICE OF PUBLIC ELECTION_FANNINCo2026 \n  \nNOTICE OF POVERTY SECTOR REPRESENTATIVE ELECTION  \nTexoma Council of Governments will conduct a public election for a low-income representative from FANNIN COUNTY to serve on the Community Services Advisory Council. \nThe public election will be held at: \nT.E.A.M. Center \n806 W. 16th Street \nBonham\, TX 75418 \nTHURSDAY\, FEBRUARY 12\, 2026 at 10:00 am \nThe primary function of the Community Services Advisory Council is to participate in the development\, planning\, implementation and evaluation of programs designed to serve low-income communities. \nEligible candidates must reside in FANNIN COUNTY\, and receive social services such as but not limited to: utility assistance\, food stamps\, food pantries\, public housing or rental assistance or serve at an agency that assists low-income persons. \nAn application and council duties can be obtained by contacting Judy Fullylove\, Energy Services Director at 903-813-3537 or by email jfullylove@tcog.com. \nApplications must be received by Monday\, February 2\, 2026. \nEligible candidates will be placed on a ballot and will be elected by a simple majority of those attending the election at the appointed time and location referenced above. \nInterested parties are encouraged to attend and participate.  Persons with disabilities who plan to attend the public election and who may need auxiliary aids or services are requested to contact Judy Fullylove\, \n903-813-3537 two (2) weekdays prior to the election to ensure appropriate arrangements are made. \nJudy E. Fullylove \nEnergy Services Director
URL:https://tcog.com/event/poverty-sector-representative-election/
LOCATION:TEAM Center\, 806 W. 16th Street\, Bonham\, TX\, 75418\, United States
CATEGORIES:Community Services Advisory Council Meeting,Energy Services,Getting Ahead
ORGANIZER;CN="Texoma Council of Governments":MAILTO:info@texoma.cog.tx.us
GEO:33.5886256;-96.1873879
X-APPLE-STRUCTURED-LOCATION;VALUE=URI;X-ADDRESS=TEAM Center 806 W. 16th Street Bonham TX 75418 United States;X-APPLE-RADIUS=500;X-TITLE=806 W. 16th Street:geo:-96.1873879,33.5886256
END:VEVENT
BEGIN:VEVENT
DTSTART;TZID=America/Chicago:20260212T133000
DTEND;TZID=America/Chicago:20260212T150000
DTSTAMP:20260421T210149
CREATED:20260209T114942Z
LAST-MODIFIED:20260209T114942Z
UID:11002496-1770903000-1770908400@tcog.com
SUMMARY:Homeland Security Advisory Committee
DESCRIPTION:AgendaPresiding location: Texoma Council of Governments\n1117 Gallagher Drive (Texoma Room – 2nd Floor)\, Sherman\, Texas\nZoom Link: https://us02web.zoom.us/j/83479749813\nThursday\, February 12\, 2026 – 1:30pm\n\n\n \n1. Call to order\n2. Review and action related to the minutes of the 10/16/2025 TCOG HSAC meeting\n3. Information briefing relatinjg to the FY25/FY26 Homeland Security grant funds\n4. Information briefing relating to the Statewide Emergency Radio Infrastructure (SERI) Grant Opportunity\n5. Discuss and take possible action concerning the Statewide Emergency Radio Infrastructure (SERI) Grant\n6. Texoma Communications Focus Group and Communications Survey\n7. Public Comment\n8. Adjournment \n  \nThe next HSAC meeting is tentatively set for October 2026. This meeting may change to meet the Texas Homeland Security Grant Division (HSGD) required deliverables. \nPersons with disabilities who plan to attend this meeting and who may need auxiliary aids or services are requested to contact Miranda Harp 903-813-3552 no later than 9:00 a.m. the morning of the meeting so that appropriate arrangements can be made.  This Agenda was posted at the Texoma Council of Governments in a place readily accessible to the public and on the TCOG website on February 9\, 2026
URL:https://tcog.com/event/homeland-security-advisory-committee-3/
LOCATION:Texoma Council of Governments\, 1117 Gallagher Dr\, Sherman\, 75090
CATEGORIES:Homeland Security Advisory Committee Meeting
ORGANIZER;CN="Texoma Council of Governments":MAILTO:info@texoma.cog.tx.us
GEO:33.6731385;-96.6024082
X-APPLE-STRUCTURED-LOCATION;VALUE=URI;X-ADDRESS=Texoma Council of Governments 1117 Gallagher Dr Sherman 75090;X-APPLE-RADIUS=500;X-TITLE=1117 Gallagher Dr:geo:-96.6024082,33.6731385
END:VEVENT
BEGIN:VEVENT
DTSTART;TZID=America/Chicago:20260212T160000
DTEND;TZID=America/Chicago:20260212T170000
DTSTAMP:20260421T210149
CREATED:20240903T211835Z
LAST-MODIFIED:20250701T210004Z
UID:10000738-1770912000-1770915600@tcog.com
SUMMARY:Audit and Finance Committee
DESCRIPTION:
URL:https://tcog.com/event/audit-and-finance-committee-2/2026-02-12/
LOCATION:Texoma Council of Governments\, 1117 Gallagher Dr\, Sherman\, 75090
CATEGORIES:Audit & Finance Subcommittee Meeting
ORGANIZER;CN="Texoma Council of Governments":MAILTO:info@texoma.cog.tx.us
GEO:33.6731385;-96.6024082
X-APPLE-STRUCTURED-LOCATION;VALUE=URI;X-ADDRESS=Texoma Council of Governments 1117 Gallagher Dr Sherman 75090;X-APPLE-RADIUS=500;X-TITLE=1117 Gallagher Dr:geo:-96.6024082,33.6731385
END:VEVENT
BEGIN:VEVENT
DTSTART;TZID=America/Chicago:20260212T163000
DTEND;TZID=America/Chicago:20260212T170000
DTSTAMP:20260421T210149
CREATED:20230403T163205Z
LAST-MODIFIED:20230403T163205Z
UID:10001651-1770913800-1770915600@tcog.com
SUMMARY:Executive Officers Meeting
DESCRIPTION:
URL:https://tcog.com/event/executive-officers-meeting/2026-02-12/
LOCATION:Texoma Council of Governments\, 1117 Gallagher Dr\, Sherman\, 75090
CATEGORIES:Executive Officers Committee Meeting
ORGANIZER;CN="Texoma Council of Governments":MAILTO:info@texoma.cog.tx.us
GEO:33.6731385;-96.6024082
X-APPLE-STRUCTURED-LOCATION;VALUE=URI;X-ADDRESS=Texoma Council of Governments 1117 Gallagher Dr Sherman 75090;X-APPLE-RADIUS=500;X-TITLE=1117 Gallagher Dr:geo:-96.6024082,33.6731385
END:VEVENT
BEGIN:VEVENT
DTSTART;TZID=America/Chicago:20260212T170000
DTEND;TZID=America/Chicago:20260212T171500
DTSTAMP:20260421T210150
CREATED:20241002T224438Z
LAST-MODIFIED:20250701T210109Z
UID:10001820-1770915600-1770916500@tcog.com
SUMMARY:Executive Officers Committee
DESCRIPTION:
URL:https://tcog.com/event/executive-officers-committee-2-2/2026-02-12/
LOCATION:Texoma Council of Governments\, 1117 Gallagher Dr\, Sherman\, 75090
CATEGORIES:Executive Officers Committee Meeting
ORGANIZER;CN="Texoma Council of Governments":MAILTO:info@texoma.cog.tx.us
GEO:33.6731385;-96.6024082
X-APPLE-STRUCTURED-LOCATION;VALUE=URI;X-ADDRESS=Texoma Council of Governments 1117 Gallagher Dr Sherman 75090;X-APPLE-RADIUS=500;X-TITLE=1117 Gallagher Dr:geo:-96.6024082,33.6731385
END:VEVENT
BEGIN:VEVENT
DTSTART;TZID=America/Chicago:20260217T100000
DTEND;TZID=America/Chicago:20260217T110000
DTSTAMP:20260421T210150
CREATED:20260211T204105Z
LAST-MODIFIED:20260211T204105Z
UID:11002497-1771322400-1771326000@tcog.com
SUMMARY:Community Services Advisory Council
DESCRIPTION:
URL:https://tcog.com/event/community-services-advisory-council/
LOCATION:Texoma Council of Governments\, 1117 Gallagher Dr\, Sherman\, 75090
ORGANIZER;CN="Texoma Council of Governments":MAILTO:info@texoma.cog.tx.us
GEO:33.6731385;-96.6024082
X-APPLE-STRUCTURED-LOCATION;VALUE=URI;X-ADDRESS=Texoma Council of Governments 1117 Gallagher Dr Sherman 75090;X-APPLE-RADIUS=500;X-TITLE=1117 Gallagher Dr:geo:-96.6024082,33.6731385
END:VEVENT
BEGIN:VEVENT
DTSTART;TZID=America/Chicago:20260408T133000
DTEND;TZID=America/Chicago:20260408T153000
DTSTAMP:20260421T210150
CREATED:20260402T200030Z
LAST-MODIFIED:20260402T200030Z
UID:11002513-1775655000-1775662200@tcog.com
SUMMARY:Criminal Justice Advisory Committee
DESCRIPTION:AgendaCriminal Justice Advisory Committee \nWednesday\, April 8\, 2026 – 1:30 pm\n\n\n \n1. Call to order and declaration of a quorum\n2. Invocation\n3. Program Update from TCOG staff\n4. Presentation of Service Awards\n5. Review and instruction as to presentation and scoring procedures\n6. Five (5) minute presentation by “DJ-Criminal Justice Program” grant applicant #1\n7. Five (5) minute presentation by “DJ-Criminal Justice Program” grant applicant #2\n8. Five (5) minute presentation by “DJ-Criminal Justice Program” grant applicant #3\n9. Five (5) minute presentation by “DJ-Criminal Justice Program” grant applicant #4\n10. Five (5) minute presentation by “DJ-Criminal Justice Program” grant applicant #5\n11. Five (5) minute presentation by “DJ-Criminal Justice Program” grant applicant #6\n12. Five (5) minute presentation by “DJ-Criminal Justice Program” grant applicant #7\n13. Questions for “DJ-Criminal Justice Program” grant applications\n14. CJAC discussion\, possible action\, and scoring of “DJ-Criminal Justice Program” grant applications\n15. Five (5) minute presentation by “SF-General Juvenile Justice Program” grant applicant #1\n16. Five (5) minute presentation by “SF-General Juvenile Justice Program” grant applicant #2\n17. Questions for “SF-General Juvenile Justice Program” grant applicant\n18. CJAC discussion\, possible action\, and scoring of “SF-General Juvenile Justice Program” grant application\n19. Five (5) minute presentation by “VA-General Victims Assistance Program” grant applicant #1\n20. Five (5) minute presentation by “VA-General Victims Assistance Program” grant applicant #2\n21. Five (5) minute presentation by “VA-General Victims Assistance Program” grant applicant #3\n22. Five (5) minute presentation by “VA-General Victims Assistance Program” grant applicant #4\n23. Questions for “VA-General Victims Assistance Program” grant applicants\n24. CJAC discussion\, possible action\, and scoring of “VA-General Victims Assistance Program” grant applications\n25. Five (5) minute presentation by “WF-Violence against Women Program” grant applicant #1\n26. Questions for “WF-Violence against Women Program” grant applicant\n27. CJAC discussion\, possible action\, and scoring of “WF-Violence against Women Program” grant applications\n28. Public Comment and Adjournment \nPeople with disabilities who plan to attend this meeting and who may need auxiliary aids or services are requested to contact Miranda Harp at 903-271-1753 no later than 9 a.m. the morning of the meeting so that appropriate arrangements can be made. The agenda was posted at the Texoma Council of Governments office and on the TCOG website on April 2\, 2026. \nMiranda Harp\, Criminal Justice & Emergency Planning Program Supervisor
URL:https://tcog.com/event/criminal-justice-advisory-committee-4/
LOCATION:Eisenhower Room\, 1117 Gallagher Drive\, Suite 100\, Sherman\, TX\, 75090\, United States
CATEGORIES:Board & Committee Meetings,Criminal Justice,Criminal Justice Advisory Committee Meeting
ORGANIZER;CN="Texoma Council of Governments":MAILTO:info@texoma.cog.tx.us
GEO:33.673164;-96.6024917
X-APPLE-STRUCTURED-LOCATION;VALUE=URI;X-ADDRESS=Eisenhower Room 1117 Gallagher Drive Suite 100 Sherman TX 75090 United States;X-APPLE-RADIUS=500;X-TITLE=1117 Gallagher Drive\, Suite 100:geo:-96.6024917,33.673164
END:VEVENT
BEGIN:VEVENT
DTSTART;TZID=America/Chicago:20260416T133000
DTEND;TZID=America/Chicago:20260416T150000
DTSTAMP:20260421T210150
CREATED:20260408T143825Z
LAST-MODIFIED:20260408T143825Z
UID:11002514-1776346200-1776351600@tcog.com
SUMMARY:Homeland Security Advisory Committee
DESCRIPTION:AgendaPresiding location: Texoma Council of Governments\n1117 Gallagher Drive (Eisenhower Room – 1st Floor)\, Sherman\, Texas\nZoom Link: https://us02web.zoom.us/j/88542739407\nThursday\, April 16\, 2026 – 1:30pm\n\n\n \n1. Call to order\n2. Review\, discuss\, and possible action related to the minutes of the February 12\, 2026 HSAC meeting\n3. Information briefing relating to the FY25 Homeland Security Grant Funds\n4. Information briefing relating to the FY26 Homeland Security Grant Funds and Regional Projects\n5. Review\, discuss\, and prioritize the FY26 Homeland Security Grant Regional Projects\n6. Review\, discuss\, and recommend to the TCOG Board prioritization results of the FY26 Homeland Security Grant Regional Projects\n7. Public comment\n8. Adjournment \n\nPeople with disabilities who plan to attend this meeting and who may need auxiliary aids or services are requested to contact Miranda Harp at 903-271-1753 no later than 9 a.m. the morning of the meeting so that appropriate arrangements can be made. The agenda was posted at the Texoma Council of Governments office and on the TCOG website on April 8\, 2026.\nMiranda Harp\, Criminal Justice & Emergency Planning Program Supervisor
URL:https://tcog.com/event/homeland-security-advisory-committee-4/
LOCATION:Eisenhower Room\, 1117 Gallagher Drive\, Suite 100\, Sherman\, TX\, 75090\, United States
CATEGORIES:Board & Committee Meetings,Homeland Security Advisory Committee Meeting,Public Safety
ORGANIZER;CN="Texoma Council of Governments":MAILTO:info@texoma.cog.tx.us
GEO:33.673164;-96.6024917
X-APPLE-STRUCTURED-LOCATION;VALUE=URI;X-ADDRESS=Eisenhower Room 1117 Gallagher Drive Suite 100 Sherman TX 75090 United States;X-APPLE-RADIUS=500;X-TITLE=1117 Gallagher Drive\, Suite 100:geo:-96.6024917,33.673164
END:VEVENT
BEGIN:VEVENT
DTSTART;TZID=America/Chicago:20260421T133000
DTEND;TZID=America/Chicago:20260421T150000
DTSTAMP:20260421T210150
CREATED:20260414T205741Z
LAST-MODIFIED:20260414T205741Z
UID:11002518-1776778200-1776783600@tcog.com
SUMMARY:Community Services Advisory Council
DESCRIPTION:Regular meeting of the Community Services Advisory Council
URL:https://tcog.com/event/community-services-advisory-council-5/
LOCATION:Texoma Council of Governments\, 1117 Gallagher Dr\, Sherman\, 75090
CATEGORIES:Community Services Advisory Council Meeting,Energy Services
ORGANIZER;CN="Texoma Council of Governments":MAILTO:info@texoma.cog.tx.us
GEO:33.6731385;-96.6024082
X-APPLE-STRUCTURED-LOCATION;VALUE=URI;X-ADDRESS=Texoma Council of Governments 1117 Gallagher Dr Sherman 75090;X-APPLE-RADIUS=500;X-TITLE=1117 Gallagher Dr:geo:-96.6024082,33.6731385
END:VEVENT
BEGIN:VEVENT
DTSTART;TZID=America/Chicago:20260427T173000
DTEND;TZID=America/Chicago:20260427T180000
DTSTAMP:20260421T210150
CREATED:20260417T102425Z
LAST-MODIFIED:20260420T121723Z
UID:11002519-1777311000-1777312800@tcog.com
SUMMARY:Special Governing Board Meeting
DESCRIPTION:AgendaTexoma Council of Governments \n1117 Gallagher Drive (Eisenhower Room)\, Sherman\, Texas\nMonday\, April 27\, 2026 – 5:30 pm\n\n\n \n\n\n\nCall to Order & Declaration of a Quorum\nWelcome Guests\nPublic Comment\nAction\n\nFYE 2027 TCOG Annual Financing Plan\n\n\nAdjourn
URL:https://tcog.com/event/special-governing-board-meeting/
LOCATION:Texoma Council of Governments\, 1117 Gallagher Dr\, Sherman\, 75090
CATEGORIES:Board & Committee Meetings,Governing Board Meeting
ATTACH;FMTTYPE=image/png:https://tcog.com/wp-content/uploads/2017/10/TCOG-Governing-Board-Meeting-Featured-Photo-Placeholder.png
ORGANIZER;CN="Texoma Council of Governments":MAILTO:info@texoma.cog.tx.us
GEO:33.6731385;-96.6024082
X-APPLE-STRUCTURED-LOCATION;VALUE=URI;X-ADDRESS=Texoma Council of Governments 1117 Gallagher Dr Sherman 75090;X-APPLE-RADIUS=500;X-TITLE=1117 Gallagher Dr:geo:-96.6024082,33.6731385
END:VEVENT
BEGIN:VEVENT
DTSTART;TZID=America/Chicago:20260502T080000
DTEND;TZID=America/Chicago:20260502T120000
DTSTAMP:20260421T210150
CREATED:20260403T113510Z
LAST-MODIFIED:20260403T113514Z
UID:10001785-1777708800-1777723200@tcog.com
SUMMARY:Household Hazardous Waste Collection Event
DESCRIPTION:
URL:https://tcog.com/event/household-hazardous-waste-collection-event/
LOCATION:Cooke County Justice Center\, 300 County Road 451\, Gainesville\, TX\, 76240\, United States
CATEGORIES:Municipal Solid Waste,Regional Services
ORGANIZER;CN="Texoma Council of Governments":MAILTO:info@texoma.cog.tx.us
GEO:33.6494488;-97.1684504
X-APPLE-STRUCTURED-LOCATION;VALUE=URI;X-ADDRESS=Cooke County Justice Center 300 County Road 451 Gainesville TX 76240 United States;X-APPLE-RADIUS=500;X-TITLE=300 County Road 451:geo:-97.1684504,33.6494488
END:VEVENT
END:VCALENDAR