BEGIN:VCALENDAR
VERSION:2.0
PRODID:-//Texoma Council of Governments - ECPv6.15.20//NONSGML v1.0//EN
CALSCALE:GREGORIAN
METHOD:PUBLISH
X-WR-CALNAME:Texoma Council of Governments
X-ORIGINAL-URL:https://tcog.com
X-WR-CALDESC:Events for Texoma Council of Governments
REFRESH-INTERVAL;VALUE=DURATION:PT1H
X-Robots-Tag:noindex
X-PUBLISHED-TTL:PT1H
BEGIN:VTIMEZONE
TZID:America/Chicago
BEGIN:DAYLIGHT
TZOFFSETFROM:-0600
TZOFFSETTO:-0500
TZNAME:CDT
DTSTART:20250309T080000
END:DAYLIGHT
BEGIN:STANDARD
TZOFFSETFROM:-0500
TZOFFSETTO:-0600
TZNAME:CST
DTSTART:20251102T070000
END:STANDARD
BEGIN:DAYLIGHT
TZOFFSETFROM:-0600
TZOFFSETTO:-0500
TZNAME:CDT
DTSTART:20260308T080000
END:DAYLIGHT
BEGIN:STANDARD
TZOFFSETFROM:-0500
TZOFFSETTO:-0600
TZNAME:CST
DTSTART:20261101T070000
END:STANDARD
BEGIN:DAYLIGHT
TZOFFSETFROM:-0600
TZOFFSETTO:-0500
TZNAME:CDT
DTSTART:20270314T080000
END:DAYLIGHT
BEGIN:STANDARD
TZOFFSETFROM:-0500
TZOFFSETTO:-0600
TZNAME:CST
DTSTART:20271107T070000
END:STANDARD
END:VTIMEZONE
BEGIN:VEVENT
DTSTART;TZID=America/Chicago:20260430T140000
DTEND;TZID=America/Chicago:20260430T150000
DTSTAMP:20260421T155407
CREATED:20251203T141805Z
LAST-MODIFIED:20251203T141805Z
UID:11002416-1777557600-1777561200@tcog.com
SUMMARY:ArtsWorks for Seniors
DESCRIPTION:
URL:https://tcog.com/event/artsworks-for-seniors/2026-04-30/
LOCATION:ArtWorks\, 510 W. Main Street\, Denison\, 75020\, United States
ATTACH;FMTTYPE=image/jpeg:https://tcog.com/wp-content/uploads/2025/12/ArtWorks_edited.jpg
ORGANIZER;CN="Texoma Council of Governments":MAILTO:info@texoma.cog.tx.us
END:VEVENT
END:VCALENDAR